BEGIN:VCALENDAR
VERSION:2.0
PRODID:-//PURA Syndrome Foundation - ECPv6.15.20//NONSGML v1.0//EN
CALSCALE:GREGORIAN
METHOD:PUBLISH
X-WR-CALNAME:PURA Syndrome Foundation
X-ORIGINAL-URL:https://purasyndrome.org
X-WR-CALDESC:Events for PURA Syndrome Foundation
REFRESH-INTERVAL;VALUE=DURATION:PT1H
X-Robots-Tag:noindex
X-PUBLISHED-TTL:PT1H
BEGIN:VTIMEZONE
TZID:UTC
BEGIN:STANDARD
TZOFFSETFROM:+0000
TZOFFSETTO:+0000
TZNAME:UTC
DTSTART:20230101T000000
END:STANDARD
END:VTIMEZONE
BEGIN:VEVENT
DTSTART;TZID=UTC:20240413T160000
DTEND;TZID=UTC:20240413T170000
DTSTAMP:20260423T203019
CREATED:20240314T132806Z
LAST-MODIFIED:20240322T203930Z
UID:1726-1713024000-1713027600@purasyndrome.org
SUMMARY:NEW! Adult Sibling Meet Up
DESCRIPTION:Adult siblings\, please join us Saturday\, April 13 (NEW DATE) from 4:00-5:00 pm UTC+0 (UK time) for our first sibling meet up! If you haven’t yet signed up for our sibling email list\, please click here. For more sibling information and resources\, click here. \nWe are beginning to offer PURA Sibling meet ups\, beginning with our adult sibling population.  Younger age group meet ups will follow\, please continue to check back as we will be periodically adding more resources and regular meet ups to the calendar on our Siblings Outreach page.
URL:https://purasyndrome.org/event/new-adult-sibling-meet-up/
LOCATION:Virtual
CATEGORIES:Siblings
ORGANIZER;CN="Siblings Ambassador":MAILTO:siblings@pura-syndrome.org
END:VEVENT
END:VCALENDAR