BEGIN:VCALENDAR
VERSION:2.0
PRODID:-//PURA Syndrome Foundation - ECPv6.15.20//NONSGML v1.0//EN
CALSCALE:GREGORIAN
METHOD:PUBLISH
X-WR-CALNAME:PURA Syndrome Foundation
X-ORIGINAL-URL:https://purasyndrome.org
X-WR-CALDESC:Events for PURA Syndrome Foundation
REFRESH-INTERVAL;VALUE=DURATION:PT1H
X-Robots-Tag:noindex
X-PUBLISHED-TTL:PT1H
BEGIN:VTIMEZONE
TZID:UTC
BEGIN:STANDARD
TZOFFSETFROM:+0000
TZOFFSETTO:+0000
TZNAME:UTC
DTSTART:20240101T000000
END:STANDARD
END:VTIMEZONE
BEGIN:VEVENT
DTSTART;TZID=UTC:20250208T160000
DTEND;TZID=UTC:20250208T170000
DTSTAMP:20260423T032330
CREATED:20241223T155656Z
LAST-MODIFIED:20241223T155656Z
UID:2414-1739030400-1739034000@purasyndrome.org
SUMMARY:Adult Sibling Meet Up - February 2025
DESCRIPTION:Adult siblings\, please join us Saturday\, February 8 from 4:00-5:00 pm UTC+0 (UK time) for an adult (ages 18+) sibling meet up! If you haven’t yet signed up for our sibling email list\, please click here. For more sibling information and resources\, click here. \nQuestions? Contact our Sibling Ambassador Chrissie Brock at siblings@pura-syndrome.org \nPlease continue to check back as we will be periodically adding more resources and regular meet ups to the calendar on our Siblings Outreach page.
URL:https://purasyndrome.org/event/adult-sibling-meet-up-february-2025/
LOCATION:Virtual
CATEGORIES:Meet-Up,Siblings
ORGANIZER;CN="Siblings Ambassador":MAILTO:siblings@pura-syndrome.org
END:VEVENT
END:VCALENDAR