BEGIN:VCALENDAR
VERSION:2.0
PRODID:-//PURA Syndrome Foundation - ECPv6.15.20//NONSGML v1.0//EN
CALSCALE:GREGORIAN
METHOD:PUBLISH
X-WR-CALNAME:PURA Syndrome Foundation
X-ORIGINAL-URL:https://purasyndrome.org
X-WR-CALDESC:Events for PURA Syndrome Foundation
REFRESH-INTERVAL;VALUE=DURATION:PT1H
X-Robots-Tag:noindex
X-PUBLISHED-TTL:PT1H
BEGIN:VTIMEZONE
TZID:UTC
BEGIN:STANDARD
TZOFFSETFROM:+0000
TZOFFSETTO:+0000
TZNAME:UTC
DTSTART:20220101T000000
END:STANDARD
END:VTIMEZONE
BEGIN:VEVENT
DTSTART;VALUE=DATE:20230623
DTEND;VALUE=DATE:20230626
DTSTAMP:20260424T134305
CREATED:20230225T215832Z
LAST-MODIFIED:20230225T215832Z
UID:867-1687478400-1687737599@purasyndrome.org
SUMMARY:2023 PURA Conference
DESCRIPTION:
URL:https://purasyndrome.org/event/2023-pura-conference/
LOCATION:Hinxton Hall Conference Centre\, Wellcome Genome Campus\, Hinxton\, Cambridgeshire\, CB10 1RQ\, United Kingdom
CATEGORIES:Conference
END:VEVENT
END:VCALENDAR