BEGIN:VCALENDAR
VERSION:2.0
PRODID:-//PURA Syndrome Foundation - ECPv6.15.20//NONSGML v1.0//EN
CALSCALE:GREGORIAN
METHOD:PUBLISH
X-WR-CALNAME:PURA Syndrome Foundation
X-ORIGINAL-URL:https://purasyndrome.org
X-WR-CALDESC:Events for PURA Syndrome Foundation
REFRESH-INTERVAL;VALUE=DURATION:PT1H
X-Robots-Tag:noindex
X-PUBLISHED-TTL:PT1H
BEGIN:VTIMEZONE
TZID:Asia/Kolkata
BEGIN:STANDARD
TZOFFSETFROM:+0530
TZOFFSETTO:+0530
TZNAME:IST
DTSTART:20250101T000000
END:STANDARD
END:VTIMEZONE
BEGIN:VTIMEZONE
TZID:America/Chicago
BEGIN:DAYLIGHT
TZOFFSETFROM:-0600
TZOFFSETTO:-0500
TZNAME:CDT
DTSTART:20230312T080000
END:DAYLIGHT
BEGIN:STANDARD
TZOFFSETFROM:-0500
TZOFFSETTO:-0600
TZNAME:CST
DTSTART:20231105T070000
END:STANDARD
BEGIN:DAYLIGHT
TZOFFSETFROM:-0600
TZOFFSETTO:-0500
TZNAME:CDT
DTSTART:20240310T080000
END:DAYLIGHT
BEGIN:STANDARD
TZOFFSETFROM:-0500
TZOFFSETTO:-0600
TZNAME:CST
DTSTART:20241103T070000
END:STANDARD
BEGIN:DAYLIGHT
TZOFFSETFROM:-0600
TZOFFSETTO:-0500
TZNAME:CDT
DTSTART:20250309T080000
END:DAYLIGHT
BEGIN:STANDARD
TZOFFSETFROM:-0500
TZOFFSETTO:-0600
TZNAME:CST
DTSTART:20251102T070000
END:STANDARD
BEGIN:DAYLIGHT
TZOFFSETFROM:-0600
TZOFFSETTO:-0500
TZNAME:CDT
DTSTART:20260308T080000
END:DAYLIGHT
BEGIN:STANDARD
TZOFFSETFROM:-0500
TZOFFSETTO:-0600
TZNAME:CST
DTSTART:20261101T070000
END:STANDARD
BEGIN:DAYLIGHT
TZOFFSETFROM:-0600
TZOFFSETTO:-0500
TZNAME:CDT
DTSTART:20270314T080000
END:DAYLIGHT
BEGIN:STANDARD
TZOFFSETFROM:-0500
TZOFFSETTO:-0600
TZNAME:CST
DTSTART:20271107T070000
END:STANDARD
END:VTIMEZONE
BEGIN:VTIMEZONE
TZID:America/New_York
BEGIN:DAYLIGHT
TZOFFSETFROM:-0500
TZOFFSETTO:-0400
TZNAME:EDT
DTSTART:20230312T070000
END:DAYLIGHT
BEGIN:STANDARD
TZOFFSETFROM:-0400
TZOFFSETTO:-0500
TZNAME:EST
DTSTART:20231105T060000
END:STANDARD
BEGIN:DAYLIGHT
TZOFFSETFROM:-0500
TZOFFSETTO:-0400
TZNAME:EDT
DTSTART:20240310T070000
END:DAYLIGHT
BEGIN:STANDARD
TZOFFSETFROM:-0400
TZOFFSETTO:-0500
TZNAME:EST
DTSTART:20241103T060000
END:STANDARD
BEGIN:DAYLIGHT
TZOFFSETFROM:-0500
TZOFFSETTO:-0400
TZNAME:EDT
DTSTART:20250309T070000
END:DAYLIGHT
BEGIN:STANDARD
TZOFFSETFROM:-0400
TZOFFSETTO:-0500
TZNAME:EST
DTSTART:20251102T060000
END:STANDARD
BEGIN:DAYLIGHT
TZOFFSETFROM:-0500
TZOFFSETTO:-0400
TZNAME:EDT
DTSTART:20260308T070000
END:DAYLIGHT
BEGIN:STANDARD
TZOFFSETFROM:-0400
TZOFFSETTO:-0500
TZNAME:EST
DTSTART:20261101T060000
END:STANDARD
END:VTIMEZONE
BEGIN:VTIMEZONE
TZID:UTC
BEGIN:STANDARD
TZOFFSETFROM:+0000
TZOFFSETTO:+0000
TZNAME:UTC
DTSTART:20230101T000000
END:STANDARD
END:VTIMEZONE
BEGIN:VTIMEZONE
TZID:America/New_York
BEGIN:DAYLIGHT
TZOFFSETFROM:-0500
TZOFFSETTO:-0400
TZNAME:EDT
DTSTART:20240310T070000
END:DAYLIGHT
BEGIN:STANDARD
TZOFFSETFROM:-0400
TZOFFSETTO:-0500
TZNAME:EST
DTSTART:20241103T060000
END:STANDARD
BEGIN:DAYLIGHT
TZOFFSETFROM:-0500
TZOFFSETTO:-0400
TZNAME:EDT
DTSTART:20250309T070000
END:DAYLIGHT
BEGIN:STANDARD
TZOFFSETFROM:-0400
TZOFFSETTO:-0500
TZNAME:EST
DTSTART:20251102T060000
END:STANDARD
BEGIN:DAYLIGHT
TZOFFSETFROM:-0500
TZOFFSETTO:-0400
TZNAME:EDT
DTSTART:20260308T070000
END:DAYLIGHT
BEGIN:STANDARD
TZOFFSETFROM:-0400
TZOFFSETTO:-0500
TZNAME:EST
DTSTART:20261101T060000
END:STANDARD
END:VTIMEZONE
BEGIN:VTIMEZONE
TZID:Europe/Rome
BEGIN:DAYLIGHT
TZOFFSETFROM:+0100
TZOFFSETTO:+0200
TZNAME:CEST
DTSTART:20230326T010000
END:DAYLIGHT
BEGIN:STANDARD
TZOFFSETFROM:+0200
TZOFFSETTO:+0100
TZNAME:CET
DTSTART:20231029T010000
END:STANDARD
BEGIN:DAYLIGHT
TZOFFSETFROM:+0100
TZOFFSETTO:+0200
TZNAME:CEST
DTSTART:20240331T010000
END:DAYLIGHT
BEGIN:STANDARD
TZOFFSETFROM:+0200
TZOFFSETTO:+0100
TZNAME:CET
DTSTART:20241027T010000
END:STANDARD
BEGIN:DAYLIGHT
TZOFFSETFROM:+0100
TZOFFSETTO:+0200
TZNAME:CEST
DTSTART:20250330T010000
END:DAYLIGHT
BEGIN:STANDARD
TZOFFSETFROM:+0200
TZOFFSETTO:+0100
TZNAME:CET
DTSTART:20251026T010000
END:STANDARD
END:VTIMEZONE
BEGIN:VTIMEZONE
TZID:Europe/Helsinki
BEGIN:DAYLIGHT
TZOFFSETFROM:+0200
TZOFFSETTO:+0300
TZNAME:EEST
DTSTART:20220327T010000
END:DAYLIGHT
BEGIN:STANDARD
TZOFFSETFROM:+0300
TZOFFSETTO:+0200
TZNAME:EET
DTSTART:20221030T010000
END:STANDARD
BEGIN:DAYLIGHT
TZOFFSETFROM:+0200
TZOFFSETTO:+0300
TZNAME:EEST
DTSTART:20230326T010000
END:DAYLIGHT
BEGIN:STANDARD
TZOFFSETFROM:+0300
TZOFFSETTO:+0200
TZNAME:EET
DTSTART:20231029T010000
END:STANDARD
BEGIN:DAYLIGHT
TZOFFSETFROM:+0200
TZOFFSETTO:+0300
TZNAME:EEST
DTSTART:20240331T010000
END:DAYLIGHT
BEGIN:STANDARD
TZOFFSETFROM:+0300
TZOFFSETTO:+0200
TZNAME:EET
DTSTART:20241027T010000
END:STANDARD
BEGIN:DAYLIGHT
TZOFFSETFROM:+0200
TZOFFSETTO:+0300
TZNAME:EEST
DTSTART:20250330T010000
END:DAYLIGHT
BEGIN:STANDARD
TZOFFSETFROM:+0300
TZOFFSETTO:+0200
TZNAME:EET
DTSTART:20251026T010000
END:STANDARD
END:VTIMEZONE
BEGIN:VTIMEZONE
TZID:Europe/Paris
BEGIN:DAYLIGHT
TZOFFSETFROM:+0100
TZOFFSETTO:+0200
TZNAME:CEST
DTSTART:20220327T010000
END:DAYLIGHT
BEGIN:STANDARD
TZOFFSETFROM:+0200
TZOFFSETTO:+0100
TZNAME:CET
DTSTART:20221030T010000
END:STANDARD
BEGIN:DAYLIGHT
TZOFFSETFROM:+0100
TZOFFSETTO:+0200
TZNAME:CEST
DTSTART:20230326T010000
END:DAYLIGHT
BEGIN:STANDARD
TZOFFSETFROM:+0200
TZOFFSETTO:+0100
TZNAME:CET
DTSTART:20231029T010000
END:STANDARD
BEGIN:DAYLIGHT
TZOFFSETFROM:+0100
TZOFFSETTO:+0200
TZNAME:CEST
DTSTART:20240331T010000
END:DAYLIGHT
BEGIN:STANDARD
TZOFFSETFROM:+0200
TZOFFSETTO:+0100
TZNAME:CET
DTSTART:20241027T010000
END:STANDARD
END:VTIMEZONE
BEGIN:VEVENT
DTSTART;TZID=Asia/Kolkata:20260301T090000
DTEND;TZID=Asia/Kolkata:20260301T100000
DTSTAMP:20260422T230257
CREATED:20260201T032942Z
LAST-MODIFIED:20260201T032942Z
UID:3082-1772355600-1772359200@purasyndrome.org
SUMMARY:First Meet Up for PURA Families in India
DESCRIPTION:The PSF will be hosting a virtual meet-up for any of our families from India on Sunday\, March 1\, at 9:00 am IST. If you would like to join this meet-up please be sure to register here.
URL:https://purasyndrome.org/event/first-meet-up-for-pura-families-in-india/
LOCATION:Virtual
CATEGORIES:Meet-Up
END:VEVENT
BEGIN:VEVENT
DTSTART;TZID=America/Chicago:20260228T130000
DTEND;TZID=America/Chicago:20260228T140000
DTSTAMP:20260422T230257
CREATED:20260201T031220Z
LAST-MODIFIED:20260201T031518Z
UID:3080-1772283600-1772287200@purasyndrome.org
SUMMARY:Grandpops Meet-up - February 2026
DESCRIPTION:PURA Grandparents mark your calendars! On February 28 at 1 pm CST\, we will host a virtual GrandPOPS Meetup. Join us on Zoom to share our stories\, photos\, joys\, and concerns. If your special grandchild is available\, we would love to them\, but we welcome photos too. Sign-up for our GrandPops email list here. Questions? Email grandpops@pura-syndrome.org.
URL:https://purasyndrome.org/event/grandpops-meet-up-february-2026/
LOCATION:Virtual
CATEGORIES:Grandparents
END:VEVENT
BEGIN:VEVENT
DTSTART;TZID=America/New_York:20251011T150000
DTEND;TZID=America/New_York:20251011T160000
DTSTAMP:20260422T230257
CREATED:20250904T182810Z
LAST-MODIFIED:20250904T182810Z
UID:2821-1760194800-1760198400@purasyndrome.org
SUMMARY:All are Welcome Meet-Up October 2025
DESCRIPTION:All are welcome for a meet-up of any families that can join us! Questions? Contact Melissa at m.vaught@pura-syndrome.org
URL:https://purasyndrome.org/event/all-are-welcome-meet-up-october-2025/
LOCATION:Virtual
CATEGORIES:Meet-Up
ORGANIZER;CN="PURA Syndrome Foundation":MAILTO:m.vaught@pura-syndrome.org
END:VEVENT
BEGIN:VEVENT
DTSTART;TZID=America/New_York:20250927T130000
DTEND;TZID=America/New_York:20250927T140000
DTSTAMP:20260422T230257
CREATED:20250624T025824Z
LAST-MODIFIED:20250624T030012Z
UID:2791-1758978000-1758981600@purasyndrome.org
SUMMARY:First Grandpops Meet-up
DESCRIPTION:Join us for our first Grandpops Meet-up! Check out our website at purasyndrome.org/grandpops and sign up for our email list here.
URL:https://purasyndrome.org/event/first-grandpops-meet-up/
LOCATION:Virtual
CATEGORIES:Grandparents
END:VEVENT
BEGIN:VEVENT
DTSTART;TZID=UTC:20250914T160000
DTEND;TZID=UTC:20250914T170000
DTSTAMP:20260422T230257
CREATED:20250807T161421Z
LAST-MODIFIED:20250807T161421Z
UID:2810-1757865600-1757869200@purasyndrome.org
SUMMARY:Young Sibling Meet Up - September 2025
DESCRIPTION:Young siblings\, please join us Sunday\, September 14 from 4:00-5:00 pm UTC+0 (UK time) for our first young (ages 4-8) sibling meet up! If you haven’t yet signed up for our sibling email list\, please click here. For more sibling information and resources\, click here. \nQuestions? Contact our Sibling Ambassador Chrissie Brock at siblings@pura-syndrome.org \nPlease continue to check back as we will be periodically adding more resources and regular meet ups to the calendar on our Siblings Outreach page.
URL:https://purasyndrome.org/event/young-sibling-meet-up-september-2025/
LOCATION:Virtual
CATEGORIES:Meet-Up,Siblings
ORGANIZER;CN="Siblings Ambassador":MAILTO:siblings@pura-syndrome.org
END:VEVENT
BEGIN:VEVENT
DTSTART;TZID=UTC:20250913T160000
DTEND;TZID=UTC:20250913T170000
DTSTAMP:20260422T230257
CREATED:20250807T161218Z
LAST-MODIFIED:20250807T161218Z
UID:2808-1757779200-1757782800@purasyndrome.org
SUMMARY:Pre-Teen Sibling Meet Up - September 2025
DESCRIPTION:Pre-teen siblings\, please join us Saturday\, September 13 from 4:00-5:00 pm UTC+0 (UK time) for a pre-teen (ages 9-12) sibling meet up! If you haven’t yet signed up for our sibling email list\, please click here. For more sibling information and resources\, click here. \nQuestions? Contact our Sibling Ambassador Chrissie Brock at siblings@pura-syndrome.org \nPlease continue to check back as we will be periodically adding more resources and regular meet ups to the calendar on our Siblings Outreach page.
URL:https://purasyndrome.org/event/pre-teen-sibling-meet-up-september-2025/
LOCATION:Virtual
CATEGORIES:Siblings
ORGANIZER;CN="Siblings Ambassador":MAILTO:siblings@pura-syndrome.org
END:VEVENT
BEGIN:VEVENT
DTSTART;TZID=UTC:20250907T160000
DTEND;TZID=UTC:20250907T170000
DTSTAMP:20260422T230257
CREATED:20250807T150418Z
LAST-MODIFIED:20250807T150418Z
UID:2806-1757260800-1757264400@purasyndrome.org
SUMMARY:Young Adult Sibling Meet Up - September 2025
DESCRIPTION:Young adult siblings\, please join us Sunday\, September 7 from 4:00-5:00 pm UTC+0 (UK time) for a young adult (ages 13-17) sibling meet up! If you haven’t yet signed up for our sibling email list\, please click here. For more sibling information and resources\, click here. \nQuestions? Contact our Sibling Ambassador Chrissie Brock at siblings@pura-syndrome.org \nPlease continue to check back as we will be periodically adding more resources and regular meet ups to the calendar on our Siblings Outreach page.
URL:https://purasyndrome.org/event/young-adult-sibling-meet-up-september-2025/
LOCATION:Virtual
CATEGORIES:Siblings
ORGANIZER;CN="Siblings Ambassador":MAILTO:siblings@pura-syndrome.org
END:VEVENT
BEGIN:VEVENT
DTSTART;TZID=UTC:20250906T160000
DTEND;TZID=UTC:20250906T170000
DTSTAMP:20260422T230257
CREATED:20250807T150255Z
LAST-MODIFIED:20250807T150255Z
UID:2804-1757174400-1757178000@purasyndrome.org
SUMMARY:Adult Sibling Meet Up - September 2025
DESCRIPTION:Adult siblings\, please join us Saturday\, September 6 from 4:00-5:00 pm UTC+0 (UK time) for an adult (ages 18+) sibling meet up! If you haven’t yet signed up for our sibling email list\, please click here. For more sibling information and resources\, click here. \nQuestions? Contact our Sibling Ambassador Chrissie Brock at siblings@pura-syndrome.org \nPlease continue to check back as we will be periodically adding more resources and regular meet ups to the calendar on our Siblings Outreach page.
URL:https://purasyndrome.org/event/adult-sibling-meet-up-september-2025/
LOCATION:Virtual
CATEGORIES:Meet-Up,Siblings
ORGANIZER;CN="Siblings Ambassador":MAILTO:siblings@pura-syndrome.org
END:VEVENT
BEGIN:VEVENT
DTSTART;TZID=America/New_York:20250627T170000
DTEND;TZID=America/New_York:20250629T120000
DTSTAMP:20260422T230257
CREATED:20250621T171257Z
LAST-MODIFIED:20250621T172348Z
UID:2772-1751043600-1751198400@purasyndrome.org
SUMMARY:2025 PURA Syndrome Conference
DESCRIPTION:
URL:https://purasyndrome.org/event/2025-pura-syndrome-conference/
LOCATION:Embassy Suites by Hilton Grapevine\, 2401 Bass Pro Drive\, Grapevine\, TX\, 76051\, United States
CATEGORIES:Conference
ORGANIZER;CN="PURA Syndrome Foundation":MAILTO:m.vaught@pura-syndrome.org
END:VEVENT
BEGIN:VEVENT
DTSTART;TZID=UTC:20250223T160000
DTEND;TZID=UTC:20250223T170000
DTSTAMP:20260422T230257
CREATED:20241223T160205Z
LAST-MODIFIED:20241223T160205Z
UID:2421-1740326400-1740330000@purasyndrome.org
SUMMARY:Young Sibling Meet Up - February 2025
DESCRIPTION:Young siblings\, please join us Sunday\, February 23 from 4:00-5:00 pm UTC+0 (UK time) for our first young (ages 4-8) sibling meet up! If you haven’t yet signed up for our sibling email list\, please click here. For more sibling information and resources\, click here. \nQuestions? Contact our Sibling Ambassador Chrissie Brock at siblings@pura-syndrome.org \nPlease continue to check back as we will be periodically adding more resources and regular meet ups to the calendar on our Siblings Outreach page.
URL:https://purasyndrome.org/event/young-sibling-meet-up-february-2025/
LOCATION:Virtual
CATEGORIES:Meet-Up,Siblings
ORGANIZER;CN="Siblings Ambassador":MAILTO:siblings@pura-syndrome.org
END:VEVENT
BEGIN:VEVENT
DTSTART;TZID=UTC:20250222T160000
DTEND;TZID=UTC:20250222T170000
DTSTAMP:20260422T230257
CREATED:20241223T160029Z
LAST-MODIFIED:20241223T160029Z
UID:2418-1740240000-1740243600@purasyndrome.org
SUMMARY:Pre-Teen Sibling Meet Up - February 2025
DESCRIPTION:Pre-teen siblings\, please join us Saturday\, February 22 from 4:00-5:00 pm UTC+0 (UK time) for a pre-teen (ages 9-12) sibling meet up! If you haven’t yet signed up for our sibling email list\, please click here. For more sibling information and resources\, click here. \nQuestions? Contact our Sibling Ambassador Chrissie Brock at siblings@pura-syndrome.org \nPlease continue to check back as we will be periodically adding more resources and regular meet ups to the calendar on our Siblings Outreach page.
URL:https://purasyndrome.org/event/pre-teen-sibling-meet-up-february-2025/
LOCATION:Virtual
CATEGORIES:Siblings
ORGANIZER;CN="Siblings Ambassador":MAILTO:siblings@pura-syndrome.org
END:VEVENT
BEGIN:VEVENT
DTSTART;TZID=UTC:20250209T160000
DTEND;TZID=UTC:20250209T170000
DTSTAMP:20260422T230257
CREATED:20241223T155847Z
LAST-MODIFIED:20241223T160048Z
UID:2416-1739116800-1739120400@purasyndrome.org
SUMMARY:Young Adult Sibling Meet Up - February 2025
DESCRIPTION:Young adult siblings\, please join us Sunday\, February 9 from 4:00-5:00 pm UTC+0 (UK time) for a young adult (ages 13-17) sibling meet up! If you haven’t yet signed up for our sibling email list\, please click here. For more sibling information and resources\, click here. \nQuestions? Contact our Sibling Ambassador Chrissie Brock at siblings@pura-syndrome.org \nPlease continue to check back as we will be periodically adding more resources and regular meet ups to the calendar on our Siblings Outreach page.
URL:https://purasyndrome.org/event/young-adult-sibling-meet-up-february-2025/
LOCATION:Virtual
CATEGORIES:Siblings
ORGANIZER;CN="Siblings Ambassador":MAILTO:siblings@pura-syndrome.org
END:VEVENT
BEGIN:VEVENT
DTSTART;TZID=UTC:20250208T160000
DTEND;TZID=UTC:20250208T170000
DTSTAMP:20260422T230257
CREATED:20241223T155656Z
LAST-MODIFIED:20241223T155656Z
UID:2414-1739030400-1739034000@purasyndrome.org
SUMMARY:Adult Sibling Meet Up - February 2025
DESCRIPTION:Adult siblings\, please join us Saturday\, February 8 from 4:00-5:00 pm UTC+0 (UK time) for an adult (ages 18+) sibling meet up! If you haven’t yet signed up for our sibling email list\, please click here. For more sibling information and resources\, click here. \nQuestions? Contact our Sibling Ambassador Chrissie Brock at siblings@pura-syndrome.org \nPlease continue to check back as we will be periodically adding more resources and regular meet ups to the calendar on our Siblings Outreach page.
URL:https://purasyndrome.org/event/adult-sibling-meet-up-february-2025/
LOCATION:Virtual
CATEGORIES:Meet-Up,Siblings
ORGANIZER;CN="Siblings Ambassador":MAILTO:siblings@pura-syndrome.org
END:VEVENT
BEGIN:VEVENT
DTSTART;TZID=America/New_York:20241117T190000
DTEND;TZID=America/New_York:20241117T200000
DTSTAMP:20260422T230257
CREATED:20241001T231842Z
LAST-MODIFIED:20241001T231842Z
UID:2229-1731870000-1731873600@purasyndrome.org
SUMMARY:Registry Meet-Up #2: November 17
DESCRIPTION:This meet-up has been scheduled to help families fill in the Global Patient Registry. Please be sure to visit our webpage at purasyndrome.org/registry to ensure your account is set-up prior to the meeting. On that same page is a checklist of items that would be helpful to have gathered prior to the meeting as well. \n\n 
URL:https://purasyndrome.org/event/registry-meet-up-2-november-17/
LOCATION:Virtual
CATEGORIES:Meet-Up
END:VEVENT
BEGIN:VEVENT
DTSTART;TZID=UTC:20241103T160000
DTEND;TZID=UTC:20241103T170000
DTSTAMP:20260422T230257
CREATED:20240901T212301Z
LAST-MODIFIED:20240901T212413Z
UID:2183-1730649600-1730653200@purasyndrome.org
SUMMARY:Young Sibling Meet Up - November 2024
DESCRIPTION:Young siblings\, please join us Sunday\, November 3 from 4:00-5:00 pm UTC+0 (UK time) for our first young (ages 4-8) sibling meet up! If you haven’t yet signed up for our sibling email list\, please click here. For more sibling information and resources\, click here. \nQuestions? Contact our Sibling Ambassador Chrissie Brock at siblings@pura-syndrome.org \nPlease continue to check back as we will be periodically adding more resources and regular meet ups to the calendar on our Siblings Outreach page.
URL:https://purasyndrome.org/event/young-sibling-meet-up-november-2024/
LOCATION:Virtual
CATEGORIES:Siblings
ORGANIZER;CN="Siblings Ambassador":MAILTO:siblings@pura-syndrome.org
END:VEVENT
BEGIN:VEVENT
DTSTART;TZID=America/New_York:20241102T110000
DTEND;TZID=America/New_York:20241102T120000
DTSTAMP:20260422T230257
CREATED:20241001T231629Z
LAST-MODIFIED:20241001T231716Z
UID:2226-1730545200-1730548800@purasyndrome.org
SUMMARY:Registry Meet-Up #1: November 2
DESCRIPTION:This meet-up has been scheduled to help families fill in the Global Patient Registry. Please be sure to visit our webpage at purasyndrome.org/registry to ensure your account is set-up prior to the meeting. On that same page is a checklist of items that would be helpful to have gathered prior to the meeting as well. \n\n 
URL:https://purasyndrome.org/event/registry-meet-up-1-november-2/
LOCATION:Virtual
CATEGORIES:Meet-Up
END:VEVENT
BEGIN:VEVENT
DTSTART;TZID=America/New_York:20241027T150000
DTEND;TZID=America/New_York:20241027T160000
DTSTAMP:20260422T230257
CREATED:20241002T165755Z
LAST-MODIFIED:20241002T180843Z
UID:2233-1730041200-1730044800@purasyndrome.org
SUMMARY:All are Welcome Meet-Up October 2024
DESCRIPTION:All are welcome for a meet-up of any families that can join us!
URL:https://purasyndrome.org/event/all-are-welcome-meet-up-october-2024/
LOCATION:Virtual
CATEGORIES:Meet-Up
ORGANIZER;CN="PURA Syndrome Foundation":MAILTO:m.vaught@pura-syndrome.org
END:VEVENT
BEGIN:VEVENT
DTSTART;TZID=Europe/Rome:20241024T210000
DTEND;TZID=Europe/Rome:20241024T220000
DTSTAMP:20260422T230257
CREATED:20241015T154123Z
LAST-MODIFIED:20241015T154123Z
UID:2294-1729803600-1729807200@purasyndrome.org
SUMMARY:Italy Meet-Up October 2024
DESCRIPTION:
URL:https://purasyndrome.org/event/italy-meet-up-october-2024/
CATEGORIES:Meet-Up
END:VEVENT
BEGIN:VEVENT
DTSTART;TZID=UTC:20241013T160000
DTEND;TZID=UTC:20241013T170000
DTSTAMP:20260422T230257
CREATED:20240901T212143Z
LAST-MODIFIED:20240901T212426Z
UID:2181-1728835200-1728838800@purasyndrome.org
SUMMARY:Pre-Teen Sibling Meet Up - October 2024
DESCRIPTION:Pre-teen siblings\, please join us Sunday\, October 13 from 4:00-5:00 pm UTC+0 (UK time) for our first pre-teen (ages 9-12) sibling meet up! If you haven’t yet signed up for our sibling email list\, please click here. For more sibling information and resources\, click here. \nQuestions? Contact our Sibling Ambassador Chrissie Brock at siblings@pura-syndrome.org \nPlease continue to check back as we will be periodically adding more resources and regular meet ups to the calendar on our Siblings Outreach page.
URL:https://purasyndrome.org/event/pre-teen-sibling-meet-up-october-2024/
LOCATION:Virtual
CATEGORIES:Siblings
ORGANIZER;CN="Siblings Ambassador":MAILTO:siblings@pura-syndrome.org
END:VEVENT
BEGIN:VEVENT
DTSTART;TZID=UTC:20241006T160000
DTEND;TZID=UTC:20241006T170000
DTSTAMP:20260422T230257
CREATED:20240901T211921Z
LAST-MODIFIED:20240901T212438Z
UID:2178-1728230400-1728234000@purasyndrome.org
SUMMARY:Young Adult Sibling Meet Up - October 2024
DESCRIPTION:Young adult siblings\, please join us Sunday\, October 6 from 4:00-5:00 pm UTC+0 (UK time) for our first young adult (ages 13-17) sibling meet up! If you haven’t yet signed up for our sibling email list\, please click here. For more sibling information and resources\, click here. \nQuestions? Contact our Sibling Ambassador Chrissie Brock at siblings@pura-syndrome.org \nPlease continue to check back as we will be periodically adding more resources and regular meet ups to the calendar on our Siblings Outreach page.
URL:https://purasyndrome.org/event/young-adult-sibling-meet-up-october-2024/
LOCATION:Virtual
CATEGORIES:Siblings
ORGANIZER;CN="Siblings Ambassador":MAILTO:siblings@pura-syndrome.org
END:VEVENT
BEGIN:VEVENT
DTSTART;TZID=Europe/Helsinki:20241003T193000
DTEND;TZID=Europe/Helsinki:20241003T203000
DTSTAMP:20260422T230257
CREATED:20240928T020038Z
LAST-MODIFIED:20240928T020038Z
UID:2205-1727983800-1727987400@purasyndrome.org
SUMMARY:Germany Meet Up October 2024
DESCRIPTION:
URL:https://purasyndrome.org/event/germany-meet-up-october-2024/
LOCATION:Virtual
CATEGORIES:Meet-Up
END:VEVENT
BEGIN:VEVENT
DTSTART;TZID=UTC:20240929T160000
DTEND;TZID=UTC:20240929T170000
DTSTAMP:20260422T230257
CREATED:20240901T211557Z
LAST-MODIFIED:20240901T212449Z
UID:2176-1727625600-1727629200@purasyndrome.org
SUMMARY:Adult Sibling Meet Up - September 2024
DESCRIPTION:Adult siblings\, please join us Sunday\, September 29 from 4:00-5:00 pm UTC+0 (UK time) for an adult (ages 18+) sibling meet up! If you haven’t yet signed up for our sibling email list\, please click here. For more sibling information and resources\, click here. \nQuestions? Contact our Sibling Ambassador Chrissie Brock at siblings@pura-syndrome.org \nPlease continue to check back as we will be periodically adding more resources and regular meet ups to the calendar on our Siblings Outreach page.
URL:https://purasyndrome.org/event/adult-sibling-meet-up-september-2024/
LOCATION:Virtual
CATEGORIES:Siblings
ORGANIZER;CN="Siblings Ambassador":MAILTO:siblings@pura-syndrome.org
END:VEVENT
BEGIN:VEVENT
DTSTART;TZID=America/New_York:20240817T110000
DTEND;TZID=America/New_York:20240817T150000
DTSTAMP:20260422T230257
CREATED:20240726T201648Z
LAST-MODIFIED:20240726T201716Z
UID:2158-1723892400-1723906800@purasyndrome.org
SUMMARY:Lemonade Stand for PURA
DESCRIPTION:Join us for our Together for PURA Lemonade Stand at Belsan Bait & Tackle on August 17\, 2024 from 11 am – 3:00 pm in Scituate\, MA.\nBuy a “virtual” glass of lemonade here to support PURA.\n\nHosted by Vivienne Conrad and her grandmother\, Nancy Boccia
URL:https://purasyndrome.org/event/lemonade-stand-for-pura/
LOCATION:Belsan Bait & Tackle\, 4 Brook St\, Scituate\, MA\, 02066\, United States
CATEGORIES:Fundraiser
END:VEVENT
BEGIN:VEVENT
DTSTART;TZID=America/New_York:20240808T190000
DTEND;TZID=America/New_York:20240808T220000
DTSTAMP:20260422T230257
CREATED:20240726T201250Z
LAST-MODIFIED:20240726T201250Z
UID:2150-1723143600-1723154400@purasyndrome.org
SUMMARY:South Bend Cubs Game to Benefit the PURA Foundation
DESCRIPTION:Come out to Four Winds Field in South Bend\, IN on August 8th to raise awareness for the PURA Syndrome Foundation! Every ticket purchased donates $3 back to the PURA Syndrome Foundation. \n\nBuy Tickets here to attend the game\nDonate to Teresa’s fundraiser here to support PURA\nHosted by PURA Mom\, Teresa Hayden
URL:https://purasyndrome.org/event/south-bend-cubs-game-to-benefit-the-pura-foundation/
LOCATION:Four Winds Field\, South Bend\, IN\, 46601\, United States
CATEGORIES:Fundraiser
END:VEVENT
BEGIN:VEVENT
DTSTART;TZID=America/New_York:20240717T190000
DTEND;TZID=America/New_York:20240717T200000
DTSTAMP:20260422T230257
CREATED:20240715T233759Z
LAST-MODIFIED:20240715T233759Z
UID:2101-1721242800-1721246400@purasyndrome.org
SUMMARY:Together for PURA Kickoff Meeting 2
DESCRIPTION:Wouldn’t it be amazing if PURA families got together to raise awareness in our communities and invite others to join us in our mission to support and drive research\, as well as serve and empower families impacted by PURA Syndrome? WE can do this\, and you can help! Many of you have indicated that you would like to host an event or do “something” to raise money. If we all do “something\,” big or small\, we will reach our goal! \nOn Wednesday\, July 17\, we will offer a two special zoom sessions hosted by board members Nancy Boccia and Melissa Vaught\, on Everything You Need to Know to Plan a PURA Perfect Fundraiser.  No fundraiser is too small and you can all be part of this. Our goal is to have 100+ teams…imagine what we can do! \nClick here to register for the July 17\, 7:00 pm ET session \nIf you have any questions or are unable to attend and would like more information\, please contact n.boccia@pura-syndrome.org. Hope to see you all there and get your ideas and questions ready!
URL:https://purasyndrome.org/event/together-for-pura-kickoff-meeting-2/
LOCATION:Virtual
CATEGORIES:Fundraiser
END:VEVENT
BEGIN:VEVENT
DTSTART;TZID=America/New_York:20240717T103000
DTEND;TZID=America/New_York:20240717T113000
DTSTAMP:20260422T230257
CREATED:20240715T233354Z
LAST-MODIFIED:20240715T233658Z
UID:2098-1721212200-1721215800@purasyndrome.org
SUMMARY:Together for PURA Kickoff Meeting 1
DESCRIPTION:Wouldn’t it be amazing if PURA families got together to raise awareness in our communities and invite others to join us in our mission to support and drive research\, as well as serve and empower families impacted by PURA Syndrome? WE can do this\, and you can help! Many of you have indicated that you would like to host an event or do “something” to raise money. If we all do “something\,” big or small\, we will reach our goal! \nOn Wednesday\, July 17\, we will offer a two special zoom sessions hosted by board members Nancy Boccia and Melissa Vaught\, on Everything You Need to Know to Plan a PURA Perfect Fundraiser.  No fundraiser is too small and you can all be part of this. Our goal is to have 100+ teams…imagine what we can do! \nClick here to register for the July 17\, 10:30 am ET session \nIf you have any questions or are unable to attend and would like more information\, please contact n.boccia@pura-syndrome.org. Hope to see you all there and get your ideas and questions ready!
URL:https://purasyndrome.org/event/together-for-pura-kickoff-meeting-1/
LOCATION:Virtual
CATEGORIES:Fundraiser
END:VEVENT
BEGIN:VEVENT
DTSTART;TZID=America/Chicago:20240621T160000
DTEND;TZID=America/Chicago:20240623T130000
DTSTAMP:20260422T230257
CREATED:20240207T232940Z
LAST-MODIFIED:20240207T233053Z
UID:1590-1718985600-1719147600@purasyndrome.org
SUMMARY:2024 PURA Syndrome Conference
DESCRIPTION:For more information\, go to www.puraconference.org
URL:https://purasyndrome.org/event/2024-pura-syndrome-conference/
CATEGORIES:Conference
END:VEVENT
BEGIN:VEVENT
DTSTART;TZID=UTC:20240413T160000
DTEND;TZID=UTC:20240413T170000
DTSTAMP:20260422T230257
CREATED:20240314T132806Z
LAST-MODIFIED:20240322T203930Z
UID:1726-1713024000-1713027600@purasyndrome.org
SUMMARY:NEW! Adult Sibling Meet Up
DESCRIPTION:Adult siblings\, please join us Saturday\, April 13 (NEW DATE) from 4:00-5:00 pm UTC+0 (UK time) for our first sibling meet up! If you haven’t yet signed up for our sibling email list\, please click here. For more sibling information and resources\, click here. \nWe are beginning to offer PURA Sibling meet ups\, beginning with our adult sibling population.  Younger age group meet ups will follow\, please continue to check back as we will be periodically adding more resources and regular meet ups to the calendar on our Siblings Outreach page.
URL:https://purasyndrome.org/event/new-adult-sibling-meet-up/
LOCATION:Virtual
CATEGORIES:Siblings
ORGANIZER;CN="Siblings Ambassador":MAILTO:siblings@pura-syndrome.org
END:VEVENT
BEGIN:VEVENT
DTSTART;TZID=Europe/Paris:20231212T200000
DTEND;TZID=Europe/Paris:20231212T210000
DTSTAMP:20260422T230257
CREATED:20230601T104754Z
LAST-MODIFIED:20230601T104754Z
UID:1450-1702411200-1702414800@purasyndrome.org
SUMMARY:Meet Up: United Kingdom
DESCRIPTION:
URL:https://purasyndrome.org/event/meet-up-united-kingdom-5/
LOCATION:Virtual
CATEGORIES:Meet-Up
ORGANIZER;CN="UK Ambassador":MAILTO:uk@pura-syndrome.org
END:VEVENT
BEGIN:VEVENT
DTSTART;TZID=Europe/Helsinki:20231203T100000
DTEND;TZID=Europe/Helsinki:20231203T110000
DTSTAMP:20260422T230257
CREATED:20230601T104632Z
LAST-MODIFIED:20230601T104632Z
UID:1446-1701597600-1701601200@purasyndrome.org
SUMMARY:Meet Up: Germany
DESCRIPTION:
URL:https://purasyndrome.org/event/meet-up-germany-4/
LOCATION:Virtual
CATEGORIES:Meet-Up
END:VEVENT
END:VCALENDAR