BEGIN:VCALENDAR
VERSION:2.0
PRODID:-//PURA Syndrome Foundation - ECPv6.15.20//NONSGML v1.0//EN
CALSCALE:GREGORIAN
METHOD:PUBLISH
X-WR-CALNAME:PURA Syndrome Foundation
X-ORIGINAL-URL:https://purasyndrome.org
X-WR-CALDESC:Events for PURA Syndrome Foundation
REFRESH-INTERVAL;VALUE=DURATION:PT1H
X-Robots-Tag:noindex
X-PUBLISHED-TTL:PT1H
BEGIN:VTIMEZONE
TZID:Europe/Paris
BEGIN:DAYLIGHT
TZOFFSETFROM:+0100
TZOFFSETTO:+0200
TZNAME:CEST
DTSTART:20220327T010000
END:DAYLIGHT
BEGIN:STANDARD
TZOFFSETFROM:+0200
TZOFFSETTO:+0100
TZNAME:CET
DTSTART:20221030T010000
END:STANDARD
BEGIN:DAYLIGHT
TZOFFSETFROM:+0100
TZOFFSETTO:+0200
TZNAME:CEST
DTSTART:20230326T010000
END:DAYLIGHT
BEGIN:STANDARD
TZOFFSETFROM:+0200
TZOFFSETTO:+0100
TZNAME:CET
DTSTART:20231029T010000
END:STANDARD
BEGIN:DAYLIGHT
TZOFFSETFROM:+0100
TZOFFSETTO:+0200
TZNAME:CEST
DTSTART:20240331T010000
END:DAYLIGHT
BEGIN:STANDARD
TZOFFSETFROM:+0200
TZOFFSETTO:+0100
TZNAME:CET
DTSTART:20241027T010000
END:STANDARD
END:VTIMEZONE
BEGIN:VTIMEZONE
TZID:UTC
BEGIN:STANDARD
TZOFFSETFROM:+0000
TZOFFSETTO:+0000
TZNAME:UTC
DTSTART:20220101T000000
END:STANDARD
END:VTIMEZONE
BEGIN:VTIMEZONE
TZID:America/New_York
BEGIN:DAYLIGHT
TZOFFSETFROM:-0500
TZOFFSETTO:-0400
TZNAME:EDT
DTSTART:20220313T070000
END:DAYLIGHT
BEGIN:STANDARD
TZOFFSETFROM:-0400
TZOFFSETTO:-0500
TZNAME:EST
DTSTART:20221106T060000
END:STANDARD
BEGIN:DAYLIGHT
TZOFFSETFROM:-0500
TZOFFSETTO:-0400
TZNAME:EDT
DTSTART:20230312T070000
END:DAYLIGHT
BEGIN:STANDARD
TZOFFSETFROM:-0400
TZOFFSETTO:-0500
TZNAME:EST
DTSTART:20231105T060000
END:STANDARD
BEGIN:DAYLIGHT
TZOFFSETFROM:-0500
TZOFFSETTO:-0400
TZNAME:EDT
DTSTART:20240310T070000
END:DAYLIGHT
BEGIN:STANDARD
TZOFFSETFROM:-0400
TZOFFSETTO:-0500
TZNAME:EST
DTSTART:20241103T060000
END:STANDARD
END:VTIMEZONE
BEGIN:VEVENT
DTSTART;TZID=Europe/Paris:20230703T190000
DTEND;TZID=Europe/Paris:20230703T200000
DTSTAMP:20260422T230600
CREATED:20230531T130402Z
LAST-MODIFIED:20230531T130402Z
UID:1416-1688410800-1688414400@purasyndrome.org
SUMMARY:Meet Up: United Kingdom
DESCRIPTION:
URL:https://purasyndrome.org/event/meet-up-united-kingdom/
LOCATION:Virtual
CATEGORIES:Meet-Up
ORGANIZER;CN="UK Ambassador":MAILTO:uk@pura-syndrome.org
END:VEVENT
BEGIN:VEVENT
DTSTART;VALUE=DATE:20230623
DTEND;VALUE=DATE:20230626
DTSTAMP:20260422T230600
CREATED:20230225T215832Z
LAST-MODIFIED:20230225T215832Z
UID:867-1687478400-1687737599@purasyndrome.org
SUMMARY:2023 PURA Conference
DESCRIPTION:
URL:https://purasyndrome.org/event/2023-pura-conference/
LOCATION:Hinxton Hall Conference Centre\, Wellcome Genome Campus\, Hinxton\, Cambridgeshire\, CB10 1RQ\, United Kingdom
CATEGORIES:Conference
END:VEVENT
BEGIN:VEVENT
DTSTART;TZID=UTC:20230527T100000
DTEND;TZID=UTC:20230527T230000
DTSTAMP:20260422T230600
CREATED:20230225T172045Z
LAST-MODIFIED:20230225T172045Z
UID:792-1685181600-1685228400@purasyndrome.org
SUMMARY:Meet Up: United Kingdom
DESCRIPTION:
URL:https://purasyndrome.org/event/meet-up-uk-may-2023/
LOCATION:Virtual
CATEGORIES:Meet-Up
ORGANIZER;CN="UK Ambassador":MAILTO:uk@pura-syndrome.org
END:VEVENT
BEGIN:VEVENT
DTSTART;TZID=Europe/Paris:20230524T193000
DTEND;TZID=Europe/Paris:20230524T203000
DTSTAMP:20260422T230600
CREATED:20230225T171138Z
LAST-MODIFIED:20230413T201129Z
UID:784-1684956600-1684960200@purasyndrome.org
SUMMARY:Meet Up: Germany
DESCRIPTION:
URL:https://purasyndrome.org/event/meet-up-germany/
LOCATION:Virtual
CATEGORIES:Meet-Up
END:VEVENT
BEGIN:VEVENT
DTSTART;TZID=America/New_York:20230520T140000
DTEND;TZID=America/New_York:20230520T150000
DTSTAMP:20260422T230600
CREATED:20230225T171739Z
LAST-MODIFIED:20230225T171739Z
UID:790-1684591200-1684594800@purasyndrome.org
SUMMARY:Meet Up: Caring Together
DESCRIPTION:
URL:https://purasyndrome.org/event/meet-up-caring-together/
LOCATION:Virtual
CATEGORIES:Meet-Up
END:VEVENT
BEGIN:VEVENT
DTSTART;TZID=America/New_York:20230427T180000
DTEND;TZID=America/New_York:20230427T190000
DTSTAMP:20260422T230600
CREATED:20230225T171408Z
LAST-MODIFIED:20230325T020448Z
UID:786-1682618400-1682622000@purasyndrome.org
SUMMARY:Meet Up: United States New Families
DESCRIPTION:
URL:https://purasyndrome.org/event/meet-up-united-states-new-families/
LOCATION:Virtual
CATEGORIES:Meet-Up
ORGANIZER;CN="US Ambassador":MAILTO:us@pura-syndrome.org
END:VEVENT
BEGIN:VEVENT
DTSTART;TZID=UTC:20230322T190000
DTEND;TZID=UTC:20230322T203000
DTSTAMP:20260422T230600
CREATED:20230225T164241Z
LAST-MODIFIED:20230225T164241Z
UID:766-1679511600-1679517000@purasyndrome.org
SUMMARY:Meet Up: United Kingdom Registry Meet Up
DESCRIPTION:
URL:https://purasyndrome.org/event/meet-up-united-kingdom-registry-meet-up/
LOCATION:Virtual
CATEGORIES:Meet-Up
ORGANIZER;CN="UK Ambassador":MAILTO:uk@pura-syndrome.org
END:VEVENT
BEGIN:VEVENT
DTSTART;TZID=Europe/Paris:20230316T200000
DTEND;TZID=Europe/Paris:20230316T210000
DTSTAMP:20260422T230600
CREATED:20230225T163307Z
LAST-MODIFIED:20230225T163851Z
UID:760-1678996800-1679000400@purasyndrome.org
SUMMARY:Meet-up: France
DESCRIPTION:
URL:https://purasyndrome.org/event/meet-up-france/
LOCATION:Virtual
CATEGORIES:Meet-Up
END:VEVENT
END:VCALENDAR