BEGIN:VCALENDAR
VERSION:2.0
PRODID:-//PURA Syndrome Foundation - ECPv6.15.20//NONSGML v1.0//EN
CALSCALE:GREGORIAN
METHOD:PUBLISH
X-WR-CALNAME:PURA Syndrome Foundation
X-ORIGINAL-URL:https://purasyndrome.org
X-WR-CALDESC:Events for PURA Syndrome Foundation
REFRESH-INTERVAL;VALUE=DURATION:PT1H
X-Robots-Tag:noindex
X-PUBLISHED-TTL:PT1H
BEGIN:VTIMEZONE
TZID:America/New_York
BEGIN:DAYLIGHT
TZOFFSETFROM:-0500
TZOFFSETTO:-0400
TZNAME:EDT
DTSTART:20240310T070000
END:DAYLIGHT
BEGIN:STANDARD
TZOFFSETFROM:-0400
TZOFFSETTO:-0500
TZNAME:EST
DTSTART:20241103T060000
END:STANDARD
BEGIN:DAYLIGHT
TZOFFSETFROM:-0500
TZOFFSETTO:-0400
TZNAME:EDT
DTSTART:20250309T070000
END:DAYLIGHT
BEGIN:STANDARD
TZOFFSETFROM:-0400
TZOFFSETTO:-0500
TZNAME:EST
DTSTART:20251102T060000
END:STANDARD
BEGIN:DAYLIGHT
TZOFFSETFROM:-0500
TZOFFSETTO:-0400
TZNAME:EDT
DTSTART:20260308T070000
END:DAYLIGHT
BEGIN:STANDARD
TZOFFSETFROM:-0400
TZOFFSETTO:-0500
TZNAME:EST
DTSTART:20261101T060000
END:STANDARD
END:VTIMEZONE
BEGIN:VEVENT
DTSTART;TZID=America/New_York:20251011T150000
DTEND;TZID=America/New_York:20251011T160000
DTSTAMP:20260422T113042
CREATED:20250904T182810Z
LAST-MODIFIED:20250904T182810Z
UID:2821-1760194800-1760198400@purasyndrome.org
SUMMARY:All are Welcome Meet-Up October 2025
DESCRIPTION:All are welcome for a meet-up of any families that can join us! Questions? Contact Melissa at m.vaught@pura-syndrome.org
URL:https://purasyndrome.org/event/all-are-welcome-meet-up-october-2025/
LOCATION:Virtual
CATEGORIES:Meet-Up
ORGANIZER;CN="PURA Syndrome Foundation":MAILTO:m.vaught@pura-syndrome.org
END:VEVENT
END:VCALENDAR