BEGIN:VCALENDAR
VERSION:2.0
PRODID:-//PURA Syndrome Foundation - ECPv6.15.20//NONSGML v1.0//EN
CALSCALE:GREGORIAN
METHOD:PUBLISH
X-ORIGINAL-URL:https://purasyndrome.org
X-WR-CALDESC:Events for PURA Syndrome Foundation
REFRESH-INTERVAL;VALUE=DURATION:PT1H
X-Robots-Tag:noindex
X-PUBLISHED-TTL:PT1H
BEGIN:VTIMEZONE
TZID:Asia/Kolkata
BEGIN:STANDARD
TZOFFSETFROM:+0530
TZOFFSETTO:+0530
TZNAME:IST
DTSTART:20250101T000000
END:STANDARD
END:VTIMEZONE
BEGIN:VEVENT
DTSTART;TZID=Asia/Kolkata:20260301T090000
DTEND;TZID=Asia/Kolkata:20260301T100000
DTSTAMP:20260422T033627
CREATED:20260201T032942Z
LAST-MODIFIED:20260201T032942Z
UID:3082-1772355600-1772359200@purasyndrome.org
SUMMARY:First Meet Up for PURA Families in India
DESCRIPTION:The PSF will be hosting a virtual meet-up for any of our families from India on Sunday\, March 1\, at 9:00 am IST. If you would like to join this meet-up please be sure to register here.
URL:https://purasyndrome.org/event/first-meet-up-for-pura-families-in-india/
LOCATION:Virtual
CATEGORIES:Meet-Up
END:VEVENT
END:VCALENDAR